BEGIN:VCALENDAR
VERSION:2.0
PRODID:-//Domaine de Grange Neuve - ECPv6.2.3//NONSGML v1.0//EN
CALSCALE:GREGORIAN
METHOD:PUBLISH
X-ORIGINAL-URL:https://grangeneuve.neywa.fr
X-WR-CALDESC:évènements pour Domaine de Grange Neuve
REFRESH-INTERVAL;VALUE=DURATION:PT1H
X-Robots-Tag:noindex
X-PUBLISHED-TTL:PT1H
BEGIN:VTIMEZONE
TZID:Europe/Paris
BEGIN:DAYLIGHT
TZOFFSETFROM:+0100
TZOFFSETTO:+0200
TZNAME:CEST
DTSTART:20230326T010000
END:DAYLIGHT
BEGIN:STANDARD
TZOFFSETFROM:+0200
TZOFFSETTO:+0100
TZNAME:CET
DTSTART:20231029T010000
END:STANDARD
END:VTIMEZONE
BEGIN:VEVENT
DTSTART;VALUE=DATE:20231125
DTEND;VALUE=DATE:20231126
DTSTAMP:20260422T144522
CREATED:20231004T144858Z
LAST-MODIFIED:20231004T144858Z
UID:2321-1700870400-1700956799@grangeneuve.neywa.fr
SUMMARY:Salon du Terroir d'Auvers sur Oise
DESCRIPTION:
URL:https://grangeneuve.neywa.fr/event/salon-du-terroir-dauvers-sur-oise/
LOCATION:Auvers sur Oise
CATEGORIES:Foires
END:VEVENT
BEGIN:VEVENT
DTSTART;TZID=Europe/Paris:20231125T080000
DTEND;TZID=Europe/Paris:20231126T170000
DTSTAMP:20260422T144522
CREATED:20231004T145138Z
LAST-MODIFIED:20231004T145138Z
UID:2326-1700899200-1701018000@grangeneuve.neywa.fr
SUMMARY:Marché de Noël de la Roche Blanche
DESCRIPTION:
URL:https://grangeneuve.neywa.fr/event/marche-de-noel-de-la-roche-blanche/
LOCATION:Roche Blanche
CATEGORIES:Foires
END:VEVENT
END:VCALENDAR