BEGIN:VCALENDAR
VERSION:2.0
PRODID:-//Domaine de Grange Neuve - ECPv6.2.3//NONSGML v1.0//EN
CALSCALE:GREGORIAN
METHOD:PUBLISH
X-ORIGINAL-URL:https://grangeneuve.neywa.fr
X-WR-CALDESC:évènements pour Domaine de Grange Neuve
REFRESH-INTERVAL;VALUE=DURATION:PT1H
X-Robots-Tag:noindex
X-PUBLISHED-TTL:PT1H
BEGIN:VTIMEZONE
TZID:Europe/Paris
BEGIN:DAYLIGHT
TZOFFSETFROM:+0100
TZOFFSETTO:+0200
TZNAME:CEST
DTSTART:20230326T010000
END:DAYLIGHT
BEGIN:STANDARD
TZOFFSETFROM:+0200
TZOFFSETTO:+0100
TZNAME:CET
DTSTART:20231029T010000
END:STANDARD
END:VTIMEZONE
BEGIN:VEVENT
DTSTART;TZID=Europe/Paris:20231130T080000
DTEND;TZID=Europe/Paris:20231203T170000
DTSTAMP:20260420T204259
CREATED:20231004T145251Z
LAST-MODIFIED:20231004T145251Z
UID:2329-1701331200-1701622800@grangeneuve.neywa.fr
SUMMARY:Salon des Vignerons Indépendants de Paris - Porte de Versailles
DESCRIPTION:
URL:https://grangeneuve.neywa.fr/event/salon-des-vignerons-independants-de-paris-porte-de-versailles/
LOCATION:Paris
CATEGORIES:Foires
END:VEVENT
BEGIN:VEVENT
DTSTART;VALUE=DATE:20231126
DTEND;VALUE=DATE:20231127
DTSTAMP:20260420T204259
CREATED:20231004T145036Z
LAST-MODIFIED:20231004T145036Z
UID:2324-1700956800-1701043199@grangeneuve.neywa.fr
SUMMARY:Salon du Terroir d'Auvers sur Oise
DESCRIPTION:
URL:https://grangeneuve.neywa.fr/event/salon-du-terroir-dauvers-sur-oise-2/
LOCATION:Auvers sur Oise
CATEGORIES:Foires
END:VEVENT
BEGIN:VEVENT
DTSTART;TZID=Europe/Paris:20231125T080000
DTEND;TZID=Europe/Paris:20231126T170000
DTSTAMP:20260420T204259
CREATED:20231004T145138Z
LAST-MODIFIED:20231004T145138Z
UID:2326-1700899200-1701018000@grangeneuve.neywa.fr
SUMMARY:Marché de Noël de la Roche Blanche
DESCRIPTION:
URL:https://grangeneuve.neywa.fr/event/marche-de-noel-de-la-roche-blanche/
LOCATION:Roche Blanche
CATEGORIES:Foires
END:VEVENT
BEGIN:VEVENT
DTSTART;VALUE=DATE:20231125
DTEND;VALUE=DATE:20231126
DTSTAMP:20260420T204259
CREATED:20231004T144858Z
LAST-MODIFIED:20231004T144858Z
UID:2321-1700870400-1700956799@grangeneuve.neywa.fr
SUMMARY:Salon du Terroir d'Auvers sur Oise
DESCRIPTION:
URL:https://grangeneuve.neywa.fr/event/salon-du-terroir-dauvers-sur-oise/
LOCATION:Auvers sur Oise
CATEGORIES:Foires
END:VEVENT
BEGIN:VEVENT
DTSTART;VALUE=DATE:20231008
DTEND;VALUE=DATE:20231009
DTSTAMP:20260420T204259
CREATED:20231004T135033Z
LAST-MODIFIED:20231004T140154Z
UID:2311-1696723200-1696809599@grangeneuve.neywa.fr
SUMMARY:Foire aux Paniers de Sainte Eulalie d'Ans (24401)
DESCRIPTION:
URL:https://grangeneuve.neywa.fr/event/foire-aux-paniers-de-sainte-eulalie-dans-24401/
LOCATION:Sainte Eulalie d’Ans\, 24401
CATEGORIES:Foires
END:VEVENT
END:VCALENDAR